BEGIN:VCALENDAR
VERSION:2.0
PRODID:-//Chateau Elan - ECPv6.15.20//NONSGML v1.0//EN
CALSCALE:GREGORIAN
METHOD:PUBLISH
X-ORIGINAL-URL:https://chateauelan.com
X-WR-CALDESC:Events for Chateau Elan
REFRESH-INTERVAL;VALUE=DURATION:PT1H
X-Robots-Tag:noindex
X-PUBLISHED-TTL:PT1H
BEGIN:VTIMEZONE
TZID:UTC
BEGIN:STANDARD
TZOFFSETFROM:+0000
TZOFFSETTO:+0000
TZNAME:UTC
DTSTART:20240101T000000
END:STANDARD
END:VTIMEZONE
BEGIN:VEVENT
DTSTART;TZID=UTC:20250807T200000
DTEND;TZID=UTC:20250807T213000
DTSTAMP:20260423T165615
CREATED:20250710T150559Z
LAST-MODIFIED:20250805T130644Z
UID:10000481-1754596800-1754602200@chateauelan.com
SUMMARY:Afloat in Dreams: A Sound Bath Experience
DESCRIPTION:Allow the night to lull you into serenity\, as soothing sound waves carry you into the realm of dreams.\n \nAs part of our enchanting Midsummer Dream series\, Afloat in Dreams invites you to a one-of-a-kind sound bath—an immersive experience set beneath the stars and reflected in the tranquil waters of our resort pool.\n \nJoin us for an evening of soulful restoration\, gently guided by Jessica Valor\, beneath the moon’s quiet glow. This ethereal journey weaves together floating meditation\, intention setting\, harmonic resonance\, and aquatic therapy to create a spellbinding tapestry of sound and stillness.\n \nLet the crystalline tones of singing bowls\, the shimmer of soft chimes\, the grounding pulse of deep breath gongs\, and the lull of celestial melodies wash over you. Designed to calm the nervous system and awaken profound rest\, this is an invitation to surrender\, drift\, and dream. \n \nLet go. Float freely into a Midsummer Reverie.
URL:https://chateauelan.com/event/afloat-in-dreams-a-sound-bath-experience-2/
CATEGORIES:Spa,Special Event
ATTACH;FMTTYPE=image/jpeg:https://chateauelan.com/wp-content/uploads/2025/07/DJI_20250625210415_0407_D-2-scaled-3YLXno.tmp_.jpg
END:VEVENT
END:VCALENDAR