BEGIN:VCALENDAR
VERSION:2.0
PRODID:-//Chateau Elan - ECPv6.15.20//NONSGML v1.0//EN
CALSCALE:GREGORIAN
METHOD:PUBLISH
X-WR-CALNAME:Chateau Elan
X-ORIGINAL-URL:https://chateauelan.com
X-WR-CALDESC:Events for Chateau Elan
REFRESH-INTERVAL;VALUE=DURATION:PT1H
X-Robots-Tag:noindex
X-PUBLISHED-TTL:PT1H
BEGIN:VTIMEZONE
TZID:UTC
BEGIN:STANDARD
TZOFFSETFROM:+0000
TZOFFSETTO:+0000
TZNAME:UTC
DTSTART:20240101T000000
END:STANDARD
END:VTIMEZONE
BEGIN:VEVENT
DTSTART;VALUE=DATE:20251225
DTEND;VALUE=DATE:20251226
DTSTAMP:20260425T153604
CREATED:20251027T204635Z
LAST-MODIFIED:20251212T194512Z
UID:10033370-1766620800-1766707199@chateauelan.com
SUMMARY:A Noël Feast
DESCRIPTION:Join us for a Christmas Day Buffet at Versailles\nMake Reservations\n  \nThis Christmas\, gather beneath the glow of our glass-top atrium for a celebration as enchanting as the season itself. Surrounded by glimmering holiday décor\, towering trees\, and a life-sized gingerbread house\, guests are invited to indulge in a festive dining experience that captures the joy and grandeur of the holidays at Chateau Elan. \nOur Christmas Day Buffet is an abundant feast for the senses\, showcasing artfully prepared dishes from live chef stations and carving displays to coastal-inspired raw bar selections. Begin your culinary journey with signature favorites such as lobster omelets\, candied smoked bacon\, and croissant waffles before moving on to indulgent main courses like herb-crusted prime rib with au jus\, honey-glazed ham\, and oven-roasted turkey with apple-sage stuffing. \nSavor the bright\, seasonal flavors of our cold offerings—from artisan cheeses and charcuterie to king crab\, oysters\, and freshly chilled shrimp. Accompaniments such as creamy garlic mashed potatoes\, sweet potato casserole\, and roasted winter vegetables complement the holiday table\, all paired with an array of house-baked breads and spreads. \nNo celebration would be complete without something sweet. Dessert lovers will delight in confections crafted by our pastry team\, including an eggnog cheesecake\, Bûche de Noël\, hot chocolate tart\, and white chocolate cranberry cake. For little ones\, the joy continues with a dedicated kids’ corner featuring cookie and ornament decorating stations and endless candy confections. \nWhether you’re continuing a beloved family tradition or creating a new one\, Christmas Day at Chateau Elan promises a truly memorable experience—one filled with laughter\, warmth\, and the unmistakable spirit of the season. \n$130 per adult | $58 per child (ages 5–12) | 4 and under complimentary \n  \nMake Reservations\n 
URL:https://chateauelan.com/event/christmas-day-buffet/
CATEGORIES:Dining Experiences|Entertainment|holiday,Dining Experiences|Family|Special Event,Dining Experiences|Special Event
ATTACH;FMTTYPE=image/jpeg:https://chateauelan.com/wp-content/uploads/2025/10/620A7463-1-scaled-e1761597801938.jpg
END:VEVENT
BEGIN:VEVENT
DTSTART;TZID=UTC:20251221T140000
DTEND;TZID=UTC:20251221T160000
DTSTAMP:20260425T153604
CREATED:20251027T205032Z
LAST-MODIFIED:20251028T163419Z
UID:10033371-1766325600-1766332800@chateauelan.com
SUMMARY:Cookies & Claus
DESCRIPTION:Bring holiday magic to life at Chateau Elan\, where twinkling lights\, cheerful music\, and the scent of freshly baked cookies set the stage for a truly memorable family experience. Children are invited to don aprons and join Santa himself for an afternoon of creativity and delight — decorating their own festive cookies while sharing laughter\, stories\, and a little holiday mischief. \nThis intimate\, hands-on workshop is designed to spark imagination and joy\, blending the playfulness of childhood wonder with the timeless elegance of Chateau Elan. As little ones add sprinkles and icing to their creations\, parents can capture the moment with photos and enjoy the warmth of the season unfolding all around them. \nEvery detail\, from the beautifully arranged decorating stations to the soft glow of holiday décor\, makes this experience as magical as it is meaningful. It’s a celebration of family\, tradition\, and togetherness — a sweet holiday ritual you’ll look forward to year after year. \nJoin the Celebration
URL:https://chateauelan.com/event/cookies-with-santa/
CATEGORIES:CE Retreats|Fitness|Outdoors|Tennis,Dining Experiences|Family|Special Event,holiday
ATTACH;FMTTYPE=image/jpeg:https://chateauelan.com/wp-content/uploads/2025/10/P1150568-scaled.jpg
END:VEVENT
BEGIN:VEVENT
DTSTART;TZID=UTC:20251221T093000
DTEND;TZID=UTC:20251221T103000
DTSTAMP:20260425T153604
CREATED:20251027T202650Z
LAST-MODIFIED:20251118T203637Z
UID:10033369-1766309400-1766313000@chateauelan.com
SUMMARY:Breakfast with Santa
DESCRIPTION:Begin your morning in true holiday fashion with a lavish breakfast and a special visit from Santa himself. Set beneath the glow of twinkling lights and surrounded by the festive décor of the season\, this joyful gathering invites families to slow down\, savor\, and celebrate together. \nIndulge in an abundant holiday spread featuring breakfast favorites prepared by our culinary team\, from warm pastries and fluffy pancakes to chef-inspired classics that capture the magic of the morning. Little ones can share their Christmas wishes with Santa and delight in the wonder of the season\, while parents enjoy a moment of holiday bliss over coffee\, conversation\, and timeless photo opportunities. \nWith every carol playing softly in the background and every table adorned in seasonal touches\, this experience transforms a simple breakfast into a treasured tradition — one filled with laughter\, warmth\, and memories that will last well beyond the season. \nMake Reservations
URL:https://chateauelan.com/event/breakfast-with-santa-4/
CATEGORIES:Dining Experiences|Family|Special Event,Dining Experiences|Special Event,Education|Family,Exclusive Special,Family,holiday
ATTACH;FMTTYPE=image/jpeg:https://chateauelan.com/wp-content/uploads/2025/10/620A0116-scaled.jpg
END:VEVENT
BEGIN:VEVENT
DTSTART;TZID=UTC:20251214T093000
DTEND;TZID=UTC:20251214T113000
DTSTAMP:20260425T153604
CREATED:20251027T205554Z
LAST-MODIFIED:20251118T203603Z
UID:10033374-1765704600-1765711800@chateauelan.com
SUMMARY:Breakfast with Santa
DESCRIPTION:Begin your morning in true holiday fashion with a lavish breakfast and a special visit from Santa himself. Set beneath the glow of twinkling lights and surrounded by the festive décor of the season\, this joyful gathering invites families to slow down\, savor\, and celebrate together. \nIndulge in an abundant holiday spread featuring breakfast favorites prepared by our culinary team\, from warm pastries and fluffy pancakes to chef-inspired classics that capture the magic of the morning. Little ones can share their Christmas wishes with Santa and delight in the wonder of the season\, while parents enjoy a moment of holiday bliss over coffee\, conversation\, and timeless photo opportunities. \nWith every carol playing softly in the background and every table adorned in seasonal touches\, this experience transforms a simple breakfast into a treasured tradition — one filled with laughter\, warmth\, and memories that will last well beyond the season. \nMake Reservations
URL:https://chateauelan.com/event/breakfast-with-santa-3/
CATEGORIES:Dining Experiences|Family|Special Event,Dining Experiences|Special Event,Education|Family,Exclusive Special,Family,holiday
ATTACH;FMTTYPE=image/jpeg:https://chateauelan.com/wp-content/uploads/2025/10/620A0116-scaled.jpg
END:VEVENT
BEGIN:VEVENT
DTSTART;TZID=UTC:20251207T093000
DTEND;TZID=UTC:20251207T113000
DTSTAMP:20260425T153604
CREATED:20251027T205605Z
LAST-MODIFIED:20251118T203546Z
UID:10033373-1765099800-1765107000@chateauelan.com
SUMMARY:Breakfast with Santa
DESCRIPTION:Begin your morning in true holiday fashion with a lavish breakfast and a special visit from Santa himself. Set beneath the glow of twinkling lights and surrounded by the festive décor of the season\, this joyful gathering invites families to slow down\, savor\, and celebrate together. \nIndulge in an abundant holiday spread featuring breakfast favorites prepared by our culinary team\, from warm pastries and fluffy pancakes to chef-inspired classics that capture the magic of the morning. Little ones can share their Christmas wishes with Santa and delight in the wonder of the season\, while parents enjoy a moment of holiday bliss over coffee\, conversation\, and timeless photo opportunities. \nWith every carol playing softly in the background and every table adorned in seasonal touches\, this experience transforms a simple breakfast into a treasured tradition — one filled with laughter\, warmth\, and memories that will last well beyond the season. \nMake Reservations
URL:https://chateauelan.com/event/breakfast-with-santa-2/
CATEGORIES:Dining Experiences|Family|Special Event,Dining Experiences|Special Event,Education|Family,Exclusive Special,Family,holiday
ATTACH;FMTTYPE=image/jpeg:https://chateauelan.com/wp-content/uploads/2025/10/620A0116-scaled.jpg
END:VEVENT
BEGIN:VEVENT
DTSTART;TZID=UTC:20251130T093000
DTEND;TZID=UTC:20251130T113000
DTSTAMP:20260425T153604
CREATED:20251027T205626Z
LAST-MODIFIED:20251118T203502Z
UID:10033372-1764495000-1764502200@chateauelan.com
SUMMARY:Breakfast with Santa
DESCRIPTION:Begin your morning in true holiday fashion with a lavish breakfast and a special visit from Santa himself. Set beneath the glow of twinkling lights and surrounded by the festive décor of the season\, this joyful gathering invites families to slow down\, savor\, and celebrate together. \nIndulge in an abundant holiday spread featuring breakfast favorites prepared by our culinary team\, from warm pastries and fluffy pancakes to chef-inspired classics that capture the magic of the morning. Little ones can share their Christmas wishes with Santa and delight in the wonder of the season\, while parents enjoy a moment of holiday bliss over coffee\, conversation\, and timeless photo opportunities. \nWith every carol playing softly in the background and every table adorned in seasonal touches\, this experience transforms a simple breakfast into a treasured tradition — one filled with laughter\, warmth\, and memories that will last well beyond the season. \nClick Here
URL:https://chateauelan.com/event/breakfast-with-santa/
CATEGORIES:Dining Experiences|Family|Special Event,Dining Experiences|Special Event,Education|Family,Exclusive Special,Family,holiday
ATTACH;FMTTYPE=image/jpeg:https://chateauelan.com/wp-content/uploads/2025/10/620A0116-scaled.jpg
END:VEVENT
BEGIN:VEVENT
DTSTART;VALUE=DATE:20251127
DTEND;VALUE=DATE:20251128
DTSTAMP:20260425T153604
CREATED:20250919T180721Z
LAST-MODIFIED:20251107T155101Z
UID:10022300-1764201600-1764287999@chateauelan.com
SUMMARY:Thanksgiving Day Buffet
DESCRIPTION:As autumn drapes the North Georgia foothills in rich\, golden tones\, Chateau Elan invites you to a Thanksgiving celebration at Versailles Restaurant. This cherished tradition transforms the holiday into a luxurious experience\, where the warmth of the season meets the elegance of our vineyards. \nGuests are welcomed to indulge in a curated buffet featuring seasonal favorites\, elevated classics\, and chef-crafted specialties designed to delight every sense. From perfectly roasted turkey to decadent desserts\, each bite embodies the refinement and care that defines Chateau Elan. \nGather with loved ones in an atmosphere of sophistication and comfort\, where the beauty of the vineyard and the art of fine dining come together. Extend your celebration with an overnight stay and immerse yourself in the full resort experience\, making this Thanksgiving truly unforgettable. \nAdults (13+): $120\nKids (6-12): $60\nKids (5 & Under): Free\n\n\n\nSold Out\n  \n  \n \n  \n 
URL:https://chateauelan.com/event/thanksgiving-day-buffet/
CATEGORIES:Dining Experiences|Family|Special Event,Dining Experiences|Special Event,Exclusive Special,Family,holiday,National Day,Special Event
ATTACH;FMTTYPE=image/jpeg:https://chateauelan.com/wp-content/uploads/2025/09/DNA-MEDIA-2-2.jpg
END:VEVENT
BEGIN:VEVENT
DTSTART;TZID=UTC:20250921T183000
DTEND;TZID=UTC:20250921T210000
DTSTAMP:20260425T153604
CREATED:20250821T183031Z
LAST-MODIFIED:20250918T142949Z
UID:10002305-1758479400-1758488400@chateauelan.com
SUMMARY:The Harvest Table: Chef & Winemaker Dinner
DESCRIPTION:Experience the beauty of the season at Chateau Elan during The Harvest Table: Chef & Winemaker Dinner\, an intimate evening that celebrates the artistry of both cuisine and winemaking. As part of our Autumn Uncorked series\, this one-night-only gathering features a harvest-inspired menu created by our renowned culinary team\, thoughtfully paired with estate wines curated by Winemaker Simone Bergese. \nEach course highlights the essence of autumn—seasonal ingredients\, rich flavors\, and the story of the grape harvest—brought to life through refined pairings that elevate both plate and glass. Set within the ambiance of our award-winning winery\, this dinner offers an elegant journey that captures the spirit of harvest at Chateau Elan. \n  \nReserve Your Seat\n \n  \nDinner & Wine Pairings \nFirst Course\nPumpkin\, Ginger\, & Cheese\nSpiced Pumpkin Ginger Purée\, Whipped Cream Cheese with Fresh Dill\, Candied Pumpkin Seeds\nWine Pairing: Sauvignon Blanc Reserve 2024 \nSecond Course\nSalmon\, Fall Greens\, Flowers & Sprouts\nSalmon Gravlax\, Hummus Cauliflower\, Bitter Greens\, Grilled Endive\, Red Cabbage Chips\nWine Pairing: Rosé Reserve 2024 \nThird Course\nStuffed Quail\, Celeriac\, Blackberry\nStuffed Marinated Roasted Quail\, Celeriac Confit\, Celeriac Apple Purée\, Balsamic Blackberry Glaze\, Granny Smith Glass Chip\nWine Pairing: Fingerprint Collection Aglianico 2023 \nFourth Course\nSmoked Braised Bone-In Short Rib\nRoquefort Mashed Potatoes\, Red Wine Jus\, Pickled Wild Mushrooms\, Citrus Herb Gremolata\nWine Pairing: Fingerprint Collection The Roldec 2022 \nDessert\nApple Spice Tres Leches\nApple Spice Cake soaked in Salted Caramel Baileys\, Whipped Cheesecake Filling\, Cinnamon Crunch Streusel\nWine Pairing: Port Reserve Last Batch
URL:https://chateauelan.com/event/chef-winemaker-dinner/
LOCATION:Rose Vineyard
CATEGORIES:Dining Experiences|Exclusive Special|Outdoors,Dining Experiences|Exclusive Special|Special Event|Winery,Dining Experiences|Exclusive Special|Winery,Dining Experiences|Family|Special Event,Dining Experiences|Outdoors|Winery,Dining Experiences|Special Event,Education,Education|Entertainment|Exclusive Special,Education|Exclusive Special,Education|Outdoors,Education|Winery,Exclusive Special,Exclusive Special|Outdoors|Special Event,Exclusive Special|Winery
ATTACH;FMTTYPE=image/jpeg:https://chateauelan.com/wp-content/uploads/2025/08/Image-6-scaled-e1755442744402.jpg
END:VEVENT
END:VCALENDAR