BEGIN:VCALENDAR
VERSION:2.0
PRODID:-//Chateau Elan - ECPv6.15.20//NONSGML v1.0//EN
CALSCALE:GREGORIAN
METHOD:PUBLISH
X-WR-CALNAME:Chateau Elan
X-ORIGINAL-URL:https://chateauelan.com
X-WR-CALDESC:Events for Chateau Elan
REFRESH-INTERVAL;VALUE=DURATION:PT1H
X-Robots-Tag:noindex
X-PUBLISHED-TTL:PT1H
BEGIN:VTIMEZONE
TZID:UTC
BEGIN:STANDARD
TZOFFSETFROM:+0000
TZOFFSETTO:+0000
TZNAME:UTC
DTSTART:20240101T000000
END:STANDARD
END:VTIMEZONE
BEGIN:VEVENT
DTSTART;TZID=UTC:20251101T160000
DTEND;TZID=UTC:20251101T180000
DTSTAMP:20260420T125350
CREATED:20251002T141423Z
LAST-MODIFIED:20251002T142238Z
UID:10025943-1762012800-1762020000@chateauelan.com
SUMMARY:Boards & Bordeaux: Charcuterie Workshop
DESCRIPTION:Indulge in the artistry of food and wine at Vineyard Fest with our Boards & Bordeaux workshop. Guided by our culinary team\, guests will learn how to assemble a show-stopping charcuterie board with premium meats\, cheeses\, and accompaniments\, perfectly paired with Bordeaux wines. This immersive session blends flavor\, creativity\, and craftsmanship \, a true highlight of the Vineyard Fest weekend.\n \nWhat’s Included\n– Guided charcuterie workshop\n– Premium meats\, cheeses\, and accompaniments\n– Wine pairings\n– Branded charcuterie board to take home\n \n \n\nReserve Your Session
URL:https://chateauelan.com/event/boards-bordeaux-charcuterie-workshop/
CATEGORIES:Cooking Classes,Cooking Classes|Winery,Dining Experiences,Dining Experiences|Entertainment|Special Event|Winery,Education,Education|Exclusive Special,Education|Winery,Entertainment,Exclusive Special,Winery
ATTACH;FMTTYPE=image/png:https://chateauelan.com/wp-content/uploads/2025/10/4.png
END:VEVENT
END:VCALENDAR