BEGIN:VCALENDAR
VERSION:2.0
PRODID:-//Chateau Elan - ECPv6.15.20//NONSGML v1.0//EN
CALSCALE:GREGORIAN
METHOD:PUBLISH
X-WR-CALNAME:Chateau Elan
X-ORIGINAL-URL:https://chateauelan.com
X-WR-CALDESC:Events for Chateau Elan
REFRESH-INTERVAL;VALUE=DURATION:PT1H
X-Robots-Tag:noindex
X-PUBLISHED-TTL:PT1H
BEGIN:VTIMEZONE
TZID:UTC
BEGIN:STANDARD
TZOFFSETFROM:+0000
TZOFFSETTO:+0000
TZNAME:UTC
DTSTART:20240101T000000
END:STANDARD
END:VTIMEZONE
BEGIN:VEVENT
DTSTART;VALUE=DATE:20251204
DTEND;VALUE=DATE:20260101
DTSTAMP:20260423T130429
CREATED:20251027T200412Z
LAST-MODIFIED:20251111T174743Z
UID:10033365-1764806400-1767225599@chateauelan.com
SUMMARY:The Gingerbread Experience
DESCRIPTION:A sweet masterpiece returns to the Atrium of the Inn. Made in-house using real gingerbread\, this imaginative creation captures the immense talent of Chateau Elan’s pastry chefs. Blending artistry\, aroma\, and nostalgia\, it delights guests throughout the holiday season.
URL:https://chateauelan.com/event/the-gingerbread-experience/
CATEGORIES:CE Retreats|Fitness|Outdoors|Tennis,Complimentary,Exclusive Special,Family,holiday,Special Event
ATTACH;FMTTYPE=image/jpeg:https://chateauelan.com/wp-content/uploads/2025/10/620A8139-scaled.jpg
END:VEVENT
BEGIN:VEVENT
DTSTART;TZID=UTC:20251221T093000
DTEND;TZID=UTC:20251221T103000
DTSTAMP:20260423T130429
CREATED:20251027T202650Z
LAST-MODIFIED:20251118T203637Z
UID:10033369-1766309400-1766313000@chateauelan.com
SUMMARY:Breakfast with Santa
DESCRIPTION:Begin your morning in true holiday fashion with a lavish breakfast and a special visit from Santa himself. Set beneath the glow of twinkling lights and surrounded by the festive décor of the season\, this joyful gathering invites families to slow down\, savor\, and celebrate together. \nIndulge in an abundant holiday spread featuring breakfast favorites prepared by our culinary team\, from warm pastries and fluffy pancakes to chef-inspired classics that capture the magic of the morning. Little ones can share their Christmas wishes with Santa and delight in the wonder of the season\, while parents enjoy a moment of holiday bliss over coffee\, conversation\, and timeless photo opportunities. \nWith every carol playing softly in the background and every table adorned in seasonal touches\, this experience transforms a simple breakfast into a treasured tradition — one filled with laughter\, warmth\, and memories that will last well beyond the season. \nMake Reservations
URL:https://chateauelan.com/event/breakfast-with-santa-4/
CATEGORIES:Dining Experiences|Family|Special Event,Dining Experiences|Special Event,Education|Family,Exclusive Special,Family,holiday
ATTACH;FMTTYPE=image/jpeg:https://chateauelan.com/wp-content/uploads/2025/10/620A0116-scaled.jpg
END:VEVENT
BEGIN:VEVENT
DTSTART;TZID=UTC:20251221T100000
DTEND;TZID=UTC:20251221T110000
DTSTAMP:20260423T130429
CREATED:20250918T202841Z
LAST-MODIFIED:20250918T202841Z
UID:10018342-1766311200-1766314800@chateauelan.com
SUMMARY:Bootcamp
DESCRIPTION:Experience the challenge of a high intensity cardio & strength class using natural landscape as our gym. This 45-minute class uses various equipment and body weight. Our instructors guide you through a workout to build cardiovascular fitness while improving muscular strength and endurance. Our high-intensity interval training class focuses on building lean muscle and maximizing calorie burn. \nSpecial Considerations\n__•_All guests should plan on arriving 15-minutes prior to the start of class and check-in at the Spa at Chateau Elan.\n__•_Lockers and changing rooms are available for all guests. Access to additional spa amenities are not included.\n__•_Class size is limited. Classes can be taught inside or outside\, dependent on weather. \nBOOK NOW
URL:https://chateauelan.com/event/bootcamp-class-2/2025-12-21/
CATEGORIES:Fitness,Fitness|Spa,Spa
ATTACH;FMTTYPE=image/jpeg:https://chateauelan.com/wp-content/uploads/2025/07/pexels-cottonbro-4327130-scaled-cwcM05.tmp_.jpg
END:VEVENT
BEGIN:VEVENT
DTSTART;TZID=UTC:20251221T120000
DTEND;TZID=UTC:20251221T180000
DTSTAMP:20260423T130429
CREATED:20250918T162047Z
LAST-MODIFIED:20260312T210223Z
UID:10036102-1766318400-1766340000@chateauelan.com
SUMMARY:Chateau Wine Tasting
DESCRIPTION:Step into the world of Chateau Elan Winery and savor the story behind every bottle. Guests are invited to enjoy a self-paced tasting featuring six curated pours from our full portfolio\, including sparkling favorites\, crisp whites\, bold reds\, artful blends\, and select limited-release vintages from our Fingerprint Collection. Each pour is 1.5 ounces\, and tastings typically last about one hour\, allowing guests to explore at their own pace in a relaxed\, self-seated setting. Complement your tasting with charcuterie boards or tapas available for purchase\, crafted to enhance the flavors of our wines. \n  \nClick Here
URL:https://chateauelan.com/event/chateau-wine-tasting/2025-12-21/
CATEGORIES:Winery
ATTACH;FMTTYPE=image/jpeg:https://chateauelan.com/wp-content/uploads/2025/09/7.jpg
END:VEVENT
BEGIN:VEVENT
DTSTART;TZID=UTC:20251221T140000
DTEND;TZID=UTC:20251221T160000
DTSTAMP:20260423T130429
CREATED:20251027T205032Z
LAST-MODIFIED:20251028T163419Z
UID:10033371-1766325600-1766332800@chateauelan.com
SUMMARY:Cookies & Claus
DESCRIPTION:Bring holiday magic to life at Chateau Elan\, where twinkling lights\, cheerful music\, and the scent of freshly baked cookies set the stage for a truly memorable family experience. Children are invited to don aprons and join Santa himself for an afternoon of creativity and delight — decorating their own festive cookies while sharing laughter\, stories\, and a little holiday mischief. \nThis intimate\, hands-on workshop is designed to spark imagination and joy\, blending the playfulness of childhood wonder with the timeless elegance of Chateau Elan. As little ones add sprinkles and icing to their creations\, parents can capture the moment with photos and enjoy the warmth of the season unfolding all around them. \nEvery detail\, from the beautifully arranged decorating stations to the soft glow of holiday décor\, makes this experience as magical as it is meaningful. It’s a celebration of family\, tradition\, and togetherness — a sweet holiday ritual you’ll look forward to year after year. \nJoin the Celebration
URL:https://chateauelan.com/event/cookies-with-santa/
CATEGORIES:CE Retreats|Fitness|Outdoors|Tennis,Dining Experiences|Family|Special Event,holiday
ATTACH;FMTTYPE=image/jpeg:https://chateauelan.com/wp-content/uploads/2025/10/P1150568-scaled.jpg
END:VEVENT
BEGIN:VEVENT
DTSTART;TZID=UTC:20251221T150000
DTEND;TZID=UTC:20251221T160000
DTSTAMP:20260423T130429
CREATED:20250918T202951Z
LAST-MODIFIED:20250918T203005Z
UID:10018616-1766329200-1766332800@chateauelan.com
SUMMARY:Bootcamp
DESCRIPTION:Experience the challenge of a high intensity cardio & strength class using natural landscape as our gym. This 45-minute class uses various equipment and body weight. Our instructors guide you through a workout to build cardiovascular fitness while improving muscular strength and endurance. Our high-intensity interval training class focuses on building lean muscle and maximizing calorie burn. \nSpecial Considerations\n__•_All guests should plan on arriving 15-minutes prior to the start of class and check-in at the Spa at Chateau Elan.\n__•_Lockers and changing rooms are available for all guests. Access to additional spa amenities are not included.\n__•_Class size is limited. Classes can be taught inside or outside\, dependent on weather. \nBOOK NOW
URL:https://chateauelan.com/event/bootcamp-class-3/2025-12-21/
CATEGORIES:Fitness,Fitness|Spa,Spa
ATTACH;FMTTYPE=image/jpeg:https://chateauelan.com/wp-content/uploads/2025/07/pexels-cottonbro-4327130-scaled-cwcM05.tmp_.jpg
END:VEVENT
END:VCALENDAR