BEGIN:VCALENDAR
VERSION:2.0
PRODID:-//Chateau Elan - ECPv6.15.20//NONSGML v1.0//EN
CALSCALE:GREGORIAN
METHOD:PUBLISH
X-WR-CALNAME:Chateau Elan
X-ORIGINAL-URL:https://chateauelan.com
X-WR-CALDESC:Events for Chateau Elan
REFRESH-INTERVAL;VALUE=DURATION:PT1H
X-Robots-Tag:noindex
X-PUBLISHED-TTL:PT1H
BEGIN:VTIMEZONE
TZID:UTC
BEGIN:STANDARD
TZOFFSETFROM:+0000
TZOFFSETTO:+0000
TZNAME:UTC
DTSTART:20240101T000000
END:STANDARD
END:VTIMEZONE
BEGIN:VEVENT
DTSTART;TZID=UTC:20250902T090000
DTEND;TZID=UTC:20250902T100000
DTSTAMP:20260425T235034
CREATED:20250918T194953Z
LAST-MODIFIED:20250918T194953Z
UID:10016200-1756803600-1756807200@chateauelan.com
SUMMARY:Pilates Ring
DESCRIPTION:This 45-minute Pilates Ring workout benefits exercisers of all strength levels and promotes overall body stability\, strength\, and endurance through the use of a Pilates ring. Providing gentle-to-moderate resistance\, the Pilates ring will be mindfully integrated throughout class with guided instruction to support or challenge you during exercises. The Pilates ring is made from a flexible material and is designed to provide a variable amount of resistance under pressure. \nSpecial Considerations\n__•_All guests should plan on arriving 15-minutes prior to the start of class and check-in at the Spa at Chateau Elan.\n__•_Lockers and changing rooms are available for all guests. Access to additional spa amenities are not included.\n__•_Class size is limited. Classes can be taught inside or outside\, dependent on weather. \nBOOK NOW
URL:https://chateauelan.com/event/pilates-ring-class/2025-09-02/
CATEGORIES:Fitness,Fitness|Spa,Spa
ATTACH;FMTTYPE=image/jpeg:https://chateauelan.com/wp-content/uploads/2025/07/pexels-cottonbro-4327130-scaled-cwcM05.tmp_.jpg
END:VEVENT
BEGIN:VEVENT
DTSTART;TZID=UTC:20250902T100000
DTEND;TZID=UTC:20250902T110000
DTSTAMP:20260425T235034
CREATED:20250918T204859Z
LAST-MODIFIED:20250918T204859Z
UID:10020707-1756807200-1756810800@chateauelan.com
SUMMARY:Meditative Stretch
DESCRIPTION:Designed to promote strength through stretch\, this class begins includes guided breathing and reclined twists and stretches. Additional postures include neck stretches\, seated folds\, cat pose\, cow pose\, child’s pose\, and stretches for the upper back\, chest\, and shoulders. With focused and intentional breathing techniques\, guests can experience moment-to-moment\, connected mindfulness within their practice. \nSpecial Considerations\n__•_All guests should plan on arriving 15-minutes prior to the start of class and check-in at the Spa at Chateau Elan.\n__•_Lockers and changing rooms are available for all guests. Access to additional spa amenities are not included.\n__•_Class size is limited. Classes can be taught inside or outside\, dependent on weather. \nBOOK NOW
URL:https://chateauelan.com/event/meditative-stretch-class/2025-09-02/
ATTACH;FMTTYPE=image/jpeg:https://chateauelan.com/wp-content/uploads/2025/07/pexels-cottonbro-4327130-scaled-cwcM05.tmp_.jpg
END:VEVENT
BEGIN:VEVENT
DTSTART;TZID=UTC:20250902T110000
DTEND;TZID=UTC:20250902T114500
DTSTAMP:20260425T235034
CREATED:20250710T151052Z
LAST-MODIFIED:20250710T151052Z
UID:10000621-1756810800-1756813500@chateauelan.com
SUMMARY:AquaFit
DESCRIPTION:Join us for a 45-minute AquaFit workout where every move works against the resistance of the water\, which is between 10 and 12 times thicker than air. Constantly challenging your body\, improving muscle tone\, strength and stamina\, this low-impact class is a great activity for anyone recovering from injury – ideally suited for those who suffers of chronic joint conditions such as sclerosis or arthritis. \nSpecial Considerations\n__•_All guests should plan on arriving 15-minutes prior to the start of class and check-in at the Spa at Chateau Elan.\n__•_Lockers and changing rooms are available for all guests. Access to additional spa amenities are not included.\n__•_Proper bathing suit is required for all guests. Towels are provided.\n__•_Class size is limited. \nBOOK NOW
URL:https://chateauelan.com/event/aquafit-15/
CATEGORIES:Fitness,Spa
ATTACH;FMTTYPE=image/jpeg:https://chateauelan.com/wp-content/uploads/2025/07/0810-SE-W106.01-scaled-5JGBUP.tmp_.jpg
END:VEVENT
BEGIN:VEVENT
DTSTART;TZID=UTC:20250902T144500
DTEND;TZID=UTC:20250902T183000
DTSTAMP:20260425T235034
CREATED:20250710T151058Z
LAST-MODIFIED:20250710T151058Z
UID:10000623-1756824300-1756837800@chateauelan.com
SUMMARY:Premium Tasting - Sommelier Choice
DESCRIPTION:Enjoy our premium Sommelier Choice tasting experience by discovering the passion behind every sip while pairing with culinary creativity. Located on the second floor of the Winery\, guests will indulge in a Sommelier Selection of four\, 1.5 ounce pours from our entire wine portfolio paired with four Chef’s Choice of Tapas. Please note any dietary restrictions when making reservations. \nSeating is reserved for this experience.\nMust be 21 years or older to attend.\nClassic Flight Tasting Reservations Required.\nTapas can be purchased once you have checked in for your reservation.\nIf your party does not arrive within 15 minutes after your reservation time\, the Tasting Room reserves the right to mark your reservation as a no-show and no refund will be processed.\nPlease arrive promptly at your check-in time\, as your reservations begin exactly at your selected time\nIf you are late\, your time does not get extended. \nReservation Hours: \nSunday – Thursday:  3PM\nFriday – Saturday: 2:45PM | 4:45PM \nDress Code: \nResort/Business Casual\nNo swimsuits\nShoes and shirts required
URL:https://chateauelan.com/event/premium-tasting-sommelier-choice-87/
CATEGORIES:Winery
ATTACH;FMTTYPE=image/jpeg:https://chateauelan.com/wp-content/uploads/2025/07/ChateauElan_Sept.2023_tg-4-scaled-e1704924577856-47IbBL.tmp_.jpg
END:VEVENT
END:VCALENDAR