BEGIN:VCALENDAR
VERSION:2.0
PRODID:-//Chateau Elan - ECPv6.15.20//NONSGML v1.0//EN
CALSCALE:GREGORIAN
METHOD:PUBLISH
X-WR-CALNAME:Chateau Elan
X-ORIGINAL-URL:https://chateauelan.com
X-WR-CALDESC:Events for Chateau Elan
REFRESH-INTERVAL;VALUE=DURATION:PT1H
X-Robots-Tag:noindex
X-PUBLISHED-TTL:PT1H
BEGIN:VTIMEZONE
TZID:UTC
BEGIN:STANDARD
TZOFFSETFROM:+0000
TZOFFSETTO:+0000
TZNAME:UTC
DTSTART:20240101T000000
END:STANDARD
END:VTIMEZONE
BEGIN:VEVENT
DTSTART;VALUE=DATE:20250801
DTEND;VALUE=DATE:20250901
DTSTAMP:20260423T132758
CREATED:20250804T134932Z
LAST-MODIFIED:20250805T124605Z
UID:10001187-1754006400-1756684799@chateauelan.com
SUMMARY:Wellness Month at Chateau Elan
DESCRIPTION:August marks Wellness Month at Chateau Elan—a celebration of rest\, renewal\, and intentional living. Guests are invited to explore a curated calendar of experiences designed to inspire balance\, from movement and mindfulness to elevated culinary offerings and spa indulgence. \n\n\n\nSignature events like Wine Down Yoga and Afloat in Dreams return throughout the month\, each offering a unique way to reconnect with self in a stunning\, tranquil setting. For those looking to linger a little longer\, the Wellness Month Overnight Package adds an extra touch of luxury with spa and dining perks available exclusively during August. \n\n\n\nWhether joining for a single event or planning a full weekend retreat\, Wellness Month is an invitation to slow down and savor the moment. \n\n\n\n  \n\n\n\n\n\n\n\n\n\n\n\n\nWine Down Yoga in the Rose Garden\nUnder the Harvest Moon: A Floating Sound Bath Experience\n\n\n\n\n\n 
URL:https://chateauelan.com/event/wellness-month-at-chateau-elan-2/
CATEGORIES:Entertainment,Exclusive Special,Fitness,holiday,Spa,Special Event
ATTACH;FMTTYPE=image/jpeg:https://chateauelan.com/wp-content/uploads/2025/08/620A4465-scaled-UHWAvn.jpg
END:VEVENT
BEGIN:VEVENT
DTSTART;TZID=UTC:20250801T144500
DTEND;TZID=UTC:20250801T161500
DTSTAMP:20260423T132758
CREATED:20250710T150346Z
LAST-MODIFIED:20250710T150346Z
UID:10000441-1754059500-1754064900@chateauelan.com
SUMMARY:Premium Tasting - Sommelier Choice
DESCRIPTION:Enjoy our premium Sommelier Choice tasting experience by discovering the passion behind every sip while pairing it with culinary creativity. \n\n\n\nGuests will indulge in a Sommelier Selection of four 1.5-ounce pours from our entire wine portfolio paired with four Chef’s Choice of Tapas. Please note any dietary restrictions when making reservations. \n\n\n\nNotes\n\nSeating is reserved for this 90-minute experience\n\n\n\nMust be 21 years or older to attend\n\n\n\nSommelier Choice Reservations Required\n\n\n\nIf your party does not arrive within 15 minutes of your reservation\, the Tasting Room reserves the right to mark your reservation as a no-show\, and no refund will be processed.\n\n\n\nPlease arrive promptly at your check-in time\, as your 90-minute reservations begin precisely at your selected time\n\n\n\nIf you are late\, your time will not be extended\n\n\n\nReservations are nonrefundable within 72 hours of the scheduled tasting time\n\n\n\n\n\nTasting Room Hours\nMonday – Thursday: 12PM – 7PMFriday – Saturday: 11AM – 8PMSunday: 11AM – 6PM \n\n\n\n\nDress Code\n– Resort/Business Casual– No swimsuits– Shoes and shirts required
URL:https://chateauelan.com/event/premium-tasting-sommelier-choice-36/
CATEGORIES:Winery
ATTACH;FMTTYPE=image/jpeg:https://chateauelan.com/wp-content/uploads/2025/07/ChateauElan_Sept.2023_tg-4-1-7lTKpB.tmp_.jpg
END:VEVENT
BEGIN:VEVENT
DTSTART;TZID=UTC:20250801T144500
DTEND;TZID=UTC:20250801T183000
DTSTAMP:20260423T132758
CREATED:20250710T150346Z
LAST-MODIFIED:20250710T150346Z
UID:10000440-1754059500-1754073000@chateauelan.com
SUMMARY:Premium Tasting - Sommelier Choice
DESCRIPTION:Enjoy our premium Sommelier Choice tasting experience by discovering the passion behind every sip while pairing with culinary creativity. Located on the second floor of the Winery\, guests will indulge in a Sommelier Selection of four\, 1.5 ounce pours from our entire wine portfolio paired with four Chef’s Choice of Tapas. Please note any dietary restrictions when making reservations. \nSeating is reserved for this experience.\nMust be 21 years or older to attend.\nClassic Flight Tasting Reservations Required.\nTapas can be purchased once you have checked in for your reservation.\nIf your party does not arrive within 15 minutes after your reservation time\, the Tasting Room reserves the right to mark your reservation as a no-show and no refund will be processed.\nPlease arrive promptly at your check-in time\, as your reservations begin exactly at your selected time\nIf you are late\, your time does not get extended. \nReservation Hours: \nSunday – Thursday:  3PM\nFriday – Saturday: 2:45PM | 4:45PM \nDress Code: \nResort/Business Casual\nNo swimsuits\nShoes and shirts required
URL:https://chateauelan.com/event/premium-tasting-sommelier-choice-35/
CATEGORIES:Winery
ATTACH;FMTTYPE=image/jpeg:https://chateauelan.com/wp-content/uploads/2025/07/ChateauElan_Sept.2023_tg-4-scaled-e1704924577856-47IbBL.tmp_.jpg
END:VEVENT
BEGIN:VEVENT
DTSTART;TZID=UTC:20250801T164500
DTEND;TZID=UTC:20250801T181500
DTSTAMP:20260423T132758
CREATED:20250710T150405Z
LAST-MODIFIED:20250710T150405Z
UID:10000442-1754066700-1754072100@chateauelan.com
SUMMARY:Premium Tasting - Sommelier Choice
DESCRIPTION:Enjoy our premium Sommelier Choice tasting experience by discovering the passion behind every sip while pairing it with culinary creativity. \n\n\n\nGuests will indulge in a Sommelier Selection of four 1.5-ounce pours from our entire wine portfolio paired with four Chef’s Choice of Tapas. Please note any dietary restrictions when making reservations. \n\n\n\nNotes\n\nSeating is reserved for this 90-minute experience\n\n\n\nMust be 21 years or older to attend\n\n\n\nSommelier Choice Reservations Required\n\n\n\nIf your party does not arrive within 15 minutes of your reservation\, the Tasting Room reserves the right to mark your reservation as a no-show\, and no refund will be processed.\n\n\n\nPlease arrive promptly at your check-in time\, as your 90-minute reservations begin precisely at your selected time\n\n\n\nIf you are late\, your time will not be extended\n\n\n\nReservations are nonrefundable within 72 hours of the scheduled tasting time\n\n\n\n\n\nTasting Room Hours\nMonday – Thursday: 12PM – 7PMFriday – Saturday: 11AM – 8PMSunday: 11AM – 6PM \n\n\n\n\nDress Code\n– Resort/Business Casual– No swimsuits– Shoes and shirts required
URL:https://chateauelan.com/event/premium-tasting-sommelier-choice-37/
CATEGORIES:Winery
ATTACH;FMTTYPE=image/jpeg:https://chateauelan.com/wp-content/uploads/2025/07/ChateauElan_Sept.2023_tg-4-1-7lTKpB.tmp_.jpg
END:VEVENT
BEGIN:VEVENT
DTSTART;TZID=UTC:20250801T190000
DTEND;TZID=UTC:20250801T213000
DTSTAMP:20260423T132758
CREATED:20250710T150406Z
LAST-MODIFIED:20250805T172227Z
UID:10000443-1754074800-1754083800@chateauelan.com
SUMMARY:Culinary Studio
DESCRIPTION:Step inside our stunning 1\,600-square-foot Culinary Studio\, nestled within the Chateau Elan Winery and fully equipped with top-of-the-line Viking Range® appliances. Led by our talented culinary team\, this immersive cooking class experience invites guests to explore their culinary creativity through hands-on instruction and refined techniques. \n\n\n\nFrom essential mise en place to mastering impressive main courses\, each class is designed to empower students with the skills and confidence to recreate a variety of dishes at home. Guests will begin with foundational knife skills — learning how to hold\, sharpen\, and maneuver the knife with precision. Techniques such as julienne\, chiffonade\, dice\, and batonnet will transform ingredients into artful components of each dish. \n\n\n\nFollowing the hands-on portion\, participants will gather to enjoy their creations paired with a glass of Chateau Elan wine. Every cooking class includes three hours of expert instruction\, all necessary ingredients\, take-home recipe cards\, and thoughtfully curated sommelier wine pairings for a truly memorable culinary journey.
URL:https://chateauelan.com/event/culinary-studio-11/
ATTACH;FMTTYPE=image/jpeg:https://chateauelan.com/wp-content/uploads/2025/07/AT__1691-1-scaled-IKqWz3.tmp_.jpg
END:VEVENT
BEGIN:VEVENT
DTSTART;TZID=UTC:20250801T193000
DTEND;TZID=UTC:20250801T230000
DTSTAMP:20260423T132758
CREATED:20250710T150406Z
LAST-MODIFIED:20250710T150406Z
UID:10000444-1754076600-1754089200@chateauelan.com
SUMMARY:Live Music
DESCRIPTION:Experience the perfect blend of rhythm and relaxation at Louis’ House of Bourbon. Join us for an evening of live music\, where talented local artists set the stage with soulful melodies and vibrant energy. Whether you’re sipping on one of our expertly crafted bourbon cocktails or enjoying a selection from our curated menu\, the ambiance will be unmatched. \nUnwind\, connect\, and let the music elevate your night in our warm\, sophisticated atmosphere.  \nLouis’ House of BourbonFriday and Saturday nights from 9PM – 12PM__•_ DJ Melvin
URL:https://chateauelan.com/event/live-music-7/
CATEGORIES:Complimentary,Music
ATTACH;FMTTYPE=image/jpeg:https://chateauelan.com/wp-content/uploads/2025/07/pexels-north-1407322-scaled-eF39YQ.tmp_.jpg
END:VEVENT
END:VCALENDAR