BEGIN:VCALENDAR
VERSION:2.0
PRODID:-//Chateau Elan - ECPv6.15.20//NONSGML v1.0//EN
CALSCALE:GREGORIAN
METHOD:PUBLISH
X-ORIGINAL-URL:https://chateauelan.com
X-WR-CALDESC:Events for Chateau Elan
REFRESH-INTERVAL;VALUE=DURATION:PT1H
X-Robots-Tag:noindex
X-PUBLISHED-TTL:PT1H
BEGIN:VTIMEZONE
TZID:UTC
BEGIN:STANDARD
TZOFFSETFROM:+0000
TZOFFSETTO:+0000
TZNAME:UTC
DTSTART:20240101T000000
END:STANDARD
END:VTIMEZONE
BEGIN:VEVENT
DTSTART;TZID=UTC:20250731T090000
DTEND;TZID=UTC:20250731T094500
DTSTAMP:20260425T102612
CREATED:20250710T150324Z
LAST-MODIFIED:20250710T150324Z
UID:10000430-1753952400-1753955100@chateauelan.com
SUMMARY:Core Conditioning
DESCRIPTION:Focusing on the abdominals and back strength through standing and floor exercises\, Core Conditioning is a 45-minute\, low-impact workout that primarily utilizes body weight. Our instructors will guide guests through non-aerobic\, muscle-toning exercises with the intention of improving one’s posture and build core muscle groups. \nSpecial Considerations\n__•_All guests should plan on arriving 15-minutes prior to the start of class and check-in at the Spa at Chateau Elan.\n__•_Lockers and changing rooms are available for all guests. Access to additional spa amenities are not included.\n__•_Class size is limited. Classes can be taught inside or outside\, dependent on weather. \nBOOK NOW
URL:https://chateauelan.com/event/core-conditioning-6/
ATTACH;FMTTYPE=image/jpeg:https://chateauelan.com/wp-content/uploads/2025/07/pexels-cottonbro-4327130-scaled-cwcM05.tmp_.jpg
END:VEVENT
BEGIN:VEVENT
DTSTART;TZID=UTC:20250731T110000
DTEND;TZID=UTC:20250731T114500
DTSTAMP:20260425T102612
CREATED:20250710T150325Z
LAST-MODIFIED:20250710T150325Z
UID:10000431-1753959600-1753962300@chateauelan.com
SUMMARY:AquaFit
DESCRIPTION:Join us for a 45-minute AquaFit workout where every move works against the resistance of the water\, which is between 10 and 12 times thicker than air. Constantly challenging your body\, improving muscle tone\, strength and stamina\, this low-impact class is a great activity for anyone recovering from injury – ideally suited for those who suffers of chronic joint conditions such as sclerosis or arthritis. \nSpecial Considerations\n__•_All guests should plan on arriving 15-minutes prior to the start of class and check-in at the Spa at Chateau Elan.\n__•_Lockers and changing rooms are available for all guests. Access to additional spa amenities are not included.\n__•_Proper bathing suit is required for all guests. Towels are provided.\n__•_Class size is limited. \nBOOK NOW
URL:https://chateauelan.com/event/aquafit-6/
CATEGORIES:Fitness,Spa
ATTACH;FMTTYPE=image/jpeg:https://chateauelan.com/wp-content/uploads/2025/07/0810-SE-W106.01-scaled-5JGBUP.tmp_.jpg
END:VEVENT
BEGIN:VEVENT
DTSTART;TZID=UTC:20250731T130000
DTEND;TZID=UTC:20250731T160000
DTSTAMP:20260425T102612
CREATED:20250710T150328Z
LAST-MODIFIED:20250805T165107Z
UID:10000433-1753966800-1753977600@chateauelan.com
SUMMARY:Wine Tasting
DESCRIPTION:Indulge in a premium experience by discovering the history and passion that influences every sip. Guests will choose their selection of seven\, 1.5 ounce pours from any Chateau Elan wine. Guests may select from our extensive portfolio\, including: limited release Fingerprint Collection\, sparkling wines\, ports\, reds\, whites\, and blends. \nSpecial Considerations\n__•_Seating is not reserved for this experience.\n__•_Please select your desired arrival time from the booking calendar.
URL:https://chateauelan.com/event/wine-tasting-16/
CATEGORIES:Winery
ATTACH;FMTTYPE=image/jpeg:https://chateauelan.com/wp-content/uploads/2025/07/AT__5435-scaled-9psvPC.tmp_.jpg
END:VEVENT
BEGIN:VEVENT
DTSTART;TZID=UTC:20250731T144500
DTEND;TZID=UTC:20250731T183000
DTSTAMP:20260425T102612
CREATED:20250710T150330Z
LAST-MODIFIED:20250710T150330Z
UID:10000435-1753973100-1753986600@chateauelan.com
SUMMARY:Premium Tasting - Sommelier Choice
DESCRIPTION:Enjoy our premium Sommelier Choice tasting experience by discovering the passion behind every sip while pairing with culinary creativity. Located on the second floor of the Winery\, guests will indulge in a Sommelier Selection of four\, 1.5 ounce pours from our entire wine portfolio paired with four Chef’s Choice of Tapas. Please note any dietary restrictions when making reservations. \nSeating is reserved for this experience.\nMust be 21 years or older to attend.\nClassic Flight Tasting Reservations Required.\nTapas can be purchased once you have checked in for your reservation.\nIf your party does not arrive within 15 minutes after your reservation time\, the Tasting Room reserves the right to mark your reservation as a no-show and no refund will be processed.\nPlease arrive promptly at your check-in time\, as your reservations begin exactly at your selected time\nIf you are late\, your time does not get extended. \nReservation Hours: \nSunday – Thursday:  3PM\nFriday – Saturday: 2:45PM | 4:45PM \nDress Code: \nResort/Business Casual\nNo swimsuits\nShoes and shirts required
URL:https://chateauelan.com/event/premium-tasting-sommelier-choice-34/
CATEGORIES:Winery
ATTACH;FMTTYPE=image/jpeg:https://chateauelan.com/wp-content/uploads/2025/07/ChateauElan_Sept.2023_tg-4-scaled-e1704924577856-47IbBL.tmp_.jpg
END:VEVENT
BEGIN:VEVENT
DTSTART;TZID=UTC:20250731T190000
DTEND;TZID=UTC:20250731T213000
DTSTAMP:20260425T102612
CREATED:20250710T150330Z
LAST-MODIFIED:20250805T172227Z
UID:10000436-1753988400-1753997400@chateauelan.com
SUMMARY:Culinary Studio
DESCRIPTION:Step inside our stunning 1\,600-square-foot Culinary Studio\, nestled within the Chateau Elan Winery and fully equipped with top-of-the-line Viking Range® appliances. Led by our talented culinary team\, this immersive cooking class experience invites guests to explore their culinary creativity through hands-on instruction and refined techniques. \n\n\n\nFrom essential mise en place to mastering impressive main courses\, each class is designed to empower students with the skills and confidence to recreate a variety of dishes at home. Guests will begin with foundational knife skills — learning how to hold\, sharpen\, and maneuver the knife with precision. Techniques such as julienne\, chiffonade\, dice\, and batonnet will transform ingredients into artful components of each dish. \n\n\n\nFollowing the hands-on portion\, participants will gather to enjoy their creations paired with a glass of Chateau Elan wine. Every cooking class includes three hours of expert instruction\, all necessary ingredients\, take-home recipe cards\, and thoughtfully curated sommelier wine pairings for a truly memorable culinary journey.
URL:https://chateauelan.com/event/culinary-studio-10/
ATTACH;FMTTYPE=image/jpeg:https://chateauelan.com/wp-content/uploads/2025/07/AT__1691-1-scaled-IKqWz3.tmp_.jpg
END:VEVENT
END:VCALENDAR